BEGIN:VCALENDAR
VERSION:2.0
PRODID:-//SyracuseArts.net
METHOD:PUBLISH
BEGIN:VEVENT
UID:20260423100428-syracusearts.net
DTSTAMP:20260423T100428Z
DTSTART:20260726T200000Z
DTEND:20260726T220000Z
SUMMARY:The Princess Concert\nThe Oncenter\n
LOCATION:Crouse Hinds Concert Theater, Mulroy Civic Center, 411 Montgomery St., Syracuse
DESCRIPTION:For complete information, visit http://syracusearts.net/calendar/event.cfm?PerfID=155016
URL;VALUE=URI:http://syracusearts.net/calendar/event.cfm?PerfID=155016
END:VEVENT
END:VCALENDAR